BEGIN:VCALENDAR
VERSION:2.0
PRODID:-//Sociedade Civil, Economias Alternativas, Voluntariado - ECPv6.15.20//NONSGML v1.0//EN
CALSCALE:GREGORIAN
METHOD:PUBLISH
X-ORIGINAL-URL:https://stnr.aps.pt/sceav
X-WR-CALDESC:Eventos para Sociedade Civil, Economias Alternativas, Voluntariado
REFRESH-INTERVAL;VALUE=DURATION:PT1H
X-Robots-Tag:noindex
X-PUBLISHED-TTL:PT1H
BEGIN:VTIMEZONE
TZID:UTC
BEGIN:STANDARD
TZOFFSETFROM:+0000
TZOFFSETTO:+0000
TZNAME:UTC
DTSTART:20190101T000000
END:STANDARD
END:VTIMEZONE
BEGIN:VEVENT
DTSTART;VALUE=DATE:20251027
DTEND;VALUE=DATE:20251030
DTSTAMP:20260421T113343
CREATED:20250115T115406Z
LAST-MODIFIED:20250115T115406Z
UID:1009-1761523200-1761782399@stnr.aps.pt
SUMMARY:10th International CIRIEC Research Conference on Social Economy
DESCRIPTION:The CIRIEC (International Centre of Research and Information on the Public\, Social and Cooperative Economy) and the Territories of the Social Solidarity Economy Chair (Chaire TerrESS) invites you to attend the 10th International Research Conference on Social Economy\, to be held in Sciences Po Bordeaux\, France\, from 27 to 29 October 2025. \n\n\n\n\nThe conference is an international meeting place for senior and early-stage researchers interested in the whole range of the social economy components (cooperatives\, mutuals\, associations\, foundations)\, to exchange ideas and works. It will take place a few days before the Global social and solidarity economy forum (October 29-31)\, the international forum for local authorities and SSE organisations\, so you can extend your stay in Bordeaux.
URL:https://stnr.aps.pt/sceav/event/10th-international-ciriec-research-conference-on-social-economy/
LOCATION:Bordeaux\, Bordeaux\, França
END:VEVENT
BEGIN:VEVENT
DTSTART;VALUE=DATE:20240714
DTEND;VALUE=DATE:20240720
DTSTAMP:20260421T113343
CREATED:20221014T110032Z
LAST-MODIFIED:20221014T110257Z
UID:819-1720915200-1721433599@stnr.aps.pt
SUMMARY:16th ISTR International Conference e 8th International PhD Seminar
DESCRIPTION:Seminário Internacional de Doutorandos e \nConferência Internacional da ISTR – International Society for Third Sector Research \nUniversity of Antwerp\, Belgium \nhttps://www.istr.org/page/ISTR2024
URL:https://stnr.aps.pt/sceav/event/16th-istr-international-conference/
LOCATION:Antuérpia\, Universidade de Antuérpia\, Bélgica
END:VEVENT
BEGIN:VEVENT
DTSTART;TZID=UTC:20231108T080000
DTEND;TZID=UTC:20231110T170000
DTSTAMP:20260421T113343
CREATED:20230323T192104Z
LAST-MODIFIED:20230323T192104Z
UID:841-1699430400-1699635600@stnr.aps.pt
SUMMARY:3rd International conference Social and Solidarity Economy and the Commons
DESCRIPTION:The third international conference “Social Solidarity Economy and the Commons” will be a meeting point for researchers\, activists\, public officials and social entrepreneurs involved in social and solidarity economy\, governance of the commons and new social movements in different parts of the world.  \nThe conference will take place from the 8th to 10th of November 2023 at the Instituto Universitário de Lisboa (ISCTE-IUL) in Lisbon\, Portugal. The aim is to co-create an open\, interdisciplinary and transdisciplinary space for exchange of knowledge and socio-political experiences on new approaches to economic organisation and governance based in solidarity\, cooperation and common ownership from across the world... \n\nHome \n\n 
URL:https://stnr.aps.pt/sceav/event/3rd-international-conference-social-and-solidarity-economy-and-the-commons/
LOCATION:Lisboa\, Portugal
END:VEVENT
BEGIN:VEVENT
DTSTART;VALUE=DATE:20230911
DTEND;VALUE=DATE:20230915
DTSTAMP:20260421T113343
CREATED:20210807T131158Z
LAST-MODIFIED:20220908T110529Z
UID:551-1694390400-1694735999@stnr.aps.pt
SUMMARY:9th EMES International Research Conference on Social Enterprise
DESCRIPTION:The 9th edition of the EMES International Research Conference on Social Enterprise (#9EMESconf)\, “Act locally\, change globally: Social enterprises and cooperatives for more resilient economies and societies“\, will take place from 11 to 14 September 2023 at the Frankfurt University of Applied Sciences in the city of Frankfurt (Germany). \nThis #9EMESconf will be a great opportunity to discuss the challenges faced by social enterprises\, cooperatives and voluntary organizations to create impact and address SDGs. The potential of these organizations to assist transformative processes and increase resilience in local\, regional and national economies will be analyzed. \nThe #9EMESconf will bring together research communities from all over the world studying: social innovation\, cooperative economics\, social entrepreneurship\, voluntary and solidarity action\, hybrid organizing\, institutional logics\, the commons\, transitions perspectives\, critical management\, etc. \nThis conference is a partnership between EMES International Research Network and the Competence Center for Social Intervention Research at Frankfurt University of Applied Sciences. It is the first face-to-face EMES conference after the Covid-19 pandemic aiming to be a meeting place for scholars\, practitioners\, and policymakers worldwide involved in the “SE field”. \nThe Call for Papers will be launched in mid-September\, and abstract submission will open in early December 2022. \nMantenha-se informado/a em: https://emes.net/
URL:https://stnr.aps.pt/sceav/event/exemplo-2/
LOCATION:Frankfurt
END:VEVENT
BEGIN:VEVENT
DTSTART;VALUE=DATE:20230906
DTEND;VALUE=DATE:20230909
DTSTAMP:20260421T113343
CREATED:20230323T191719Z
LAST-MODIFIED:20230323T191719Z
UID:838-1693958400-1694217599@stnr.aps.pt
SUMMARY:15th International Social Innovation Research Conference\, Guimarães
DESCRIPTION:We invite academic researchers and practitioners to participate in the 15th International Social Innovation Research Conference (ISIRC)\, in Guimarães\, Portugal. The conference is being organized by the ALGORITMI Research Centre and the Research Centre on Education\, University of Minho. It will take place at the School of Engineering\, University of Minho\, in Guimarães from 6 to 8 of September 2023.\nOur main goal is to join together in this event academics and practitioners from a variety of fields with an interest in the topic of social innovation and social entrepreneurship. We expect to provide a forum of debate for researchers and practitioners\, supporting the sharing of experiences\, promoting cross-knowledge and strengthening the knowledge about social innovation research… \nhttps://isirc2023.wixsite.com/isirc2023
URL:https://stnr.aps.pt/sceav/event/15th-international-social-innovation-research-conference-guimaraes/
LOCATION:Guimarães\, Portugal
END:VEVENT
BEGIN:VEVENT
DTSTART;TZID=UTC:20230704T080000
DTEND;TZID=UTC:20230706T170000
DTSTAMP:20260421T113343
CREATED:20230511T074804Z
LAST-MODIFIED:20230511T074804Z
UID:888-1688457600-1688662800@stnr.aps.pt
SUMMARY:9th CIRIEC International Research Conference
DESCRIPTION:9th CIRIEc International Research Conference on Social Economy: Building Forward Better: Social and Solidarity Economy for a Peaceful and Fair World \n4-6 Julho \nSeoul\, República da Coreia
URL:https://stnr.aps.pt/sceav/event/9th-ciriec-international-research-conference/
END:VEVENT
BEGIN:VEVENT
DTSTART;TZID=UTC:20220930T170000
DTEND;TZID=UTC:20221002T180000
DTSTAMP:20260421T113343
CREATED:20210807T131423Z
LAST-MODIFIED:20220908T105320Z
UID:557-1664557200-1664733600@stnr.aps.pt
SUMMARY:Forum das Cooperativas Integrais
DESCRIPTION:1º ENCONTRO NACIONAL DE COOPERATIVAS INTEGRAIS\nUma oportunidade para que as cooperativas integrais se conheçam\, partilhem experiências e projetos\, reconheçam desafios comuns e descubram como cocriar soluções para as suas organizações e territórios. \nLocal: Casa Branca\, Montemor o Novo \n+ Info em \nhttps://docs.google.com/forms/d/e/1FAIpQLSfMmkiO1XmglQd3b724loGsIq5kJ9Zfw3CUH47HLtxmRcteDQ/viewform
URL:https://stnr.aps.pt/sceav/event/exemplo-4-2/
LOCATION:Aveiro
END:VEVENT
BEGIN:VEVENT
DTSTART;TZID=UTC:20220926T100000
DTEND;TZID=UTC:20220926T170000
DTSTAMP:20260421T113343
CREATED:20220807T130459Z
LAST-MODIFIED:20220908T104703Z
UID:742-1664186400-1664211600@stnr.aps.pt
SUMMARY:Conferência Internacional: Empresa Social - CASES
DESCRIPTION:Atento o crescente debate e interesse no seio da UE acerca da figura da empresa social\, bem como o seu eventual futuro enquadramento em programas comunitários\, considera-se relevante introduzir a reflexão sobre esta temática no contexto português\, conhecendo também a realidade de outros países europeus. \nD I A  /  H O R Á R I O  \nHora de Lisboa\n> 26 de setembro (10h00 / 17h00) \nL O C A L   \nCoimbra\n> Convento São Francisco \nP R O G R A M A\n> Link \nI N S C R I Ç Õ E S \n> Presencial (até ao dia 22 de setembro para o email cases@cases.pt)\n> Streaming (até ao dia 22 de setembro para o email cases@cases.pt) \nL I V E    S T R E A M I N G\n> Live Streaming  > Link \nI N T E R P R E T A Ç Ã O    S I M U L T Â N E A  \n> Inglês / Português \n  \nInformação mais detalhada: https://www.cases.pt/cies2022/
URL:https://stnr.aps.pt/sceav/event/evento-teste/
END:VEVENT
BEGIN:VEVENT
DTSTART;TZID=UTC:20220915T140000
DTEND;TZID=UTC:20220916T170000
DTSTAMP:20260421T113343
CREATED:20210707T131318Z
LAST-MODIFIED:20220908T105752Z
UID:554-1663250400-1663347600@stnr.aps.pt
SUMMARY:Saúde Mental e Economia Solidária: experiências em Brasil e Portugal
DESCRIPTION:Sala Keynes\, Faculdade de Economia da UC + Online \nEste simpósio é organizado em colaboração entre Grupo de Pesquisa ECOSOL-UNISINOS e Grupo de Estudos sobre Economia Solidária – ECOSOL-CES e ao abrigo do convénio  CES/UNISINOS. Este evento tem por objetivo apresentar e discutir formas cooperativas de inclusão socio-laboral para pessoas em sofrimento psíquico\, no campo dos cuidados de saúde mental. Realiza-se uma comparação entre Brasil e Portugal\, em termos de processo de reforma psiquiátrica e de adoção do associativismo nos serviços de saúde mental (públicos e de iniciativa da sociedade civil). Procura-se avaliar o seu impacto sobre a  sustentabilidade das experiências\, para além dos recursos estatais\, que apresentam uma tendência para a retração progressiva com a adoção de políticas de cariz neoliberal. Procura-se ainda apresentar e discutir práticas de referência para a construção da autonomia dos cidadãos utentes do sistema de saúde mental\, em busca de uma inserção mais qualificada no trabalho\, pela via da autogestão cooperativa. \nA participação presencial nesta atividade estará limitada à capacidade da sala. \nO acesso à sala virtual será feito através da ligação Zoom \nhttps://videoconf-colibri.zoom.us/j/99421867805\nID: 994 2186 7805 \nPara mais informações visite: \nhttps://www.ces.uc.pt/pt/agenda-noticias/agenda-de-eventos/2022/saude-mental-e-economia-solidaria
URL:https://stnr.aps.pt/sceav/event/exemplo-3-2/
LOCATION:Coimbra
END:VEVENT
BEGIN:VEVENT
DTSTART;TZID=UTC:20201120T170000
DTEND;TZID=UTC:20201120T190000
DTSTAMP:20260421T113343
CREATED:20211203T131036Z
LAST-MODIFIED:20220701T152741Z
UID:547-1605891600-1605898800@stnr.aps.pt
SUMMARY:Encontro
DESCRIPTION:
URL:https://stnr.aps.pt/sceav/event/exemplo-1/
LOCATION:On line
ATTACH;FMTTYPE=image/png:https://stnr.aps.pt/sceav/wp-content/uploads/sites/31/2020/09/APS_Novo_Logotipo_200x200.png
END:VEVENT
END:VCALENDAR