BEGIN:VCALENDAR
VERSION:2.0
PRODID:-//Sociedade Civil, Economias Alternativas, Voluntariado - ECPv6.15.20//NONSGML v1.0//EN
CALSCALE:GREGORIAN
METHOD:PUBLISH
X-WR-CALNAME:Sociedade Civil, Economias Alternativas, Voluntariado
X-ORIGINAL-URL:https://stnr.aps.pt/sceav
X-WR-CALDESC:Eventos para Sociedade Civil, Economias Alternativas, Voluntariado
REFRESH-INTERVAL;VALUE=DURATION:PT1H
X-Robots-Tag:noindex
X-PUBLISHED-TTL:PT1H
BEGIN:VTIMEZONE
TZID:UTC
BEGIN:STANDARD
TZOFFSETFROM:+0000
TZOFFSETTO:+0000
TZNAME:UTC
DTSTART:20240101T000000
END:STANDARD
END:VTIMEZONE
BEGIN:VEVENT
DTSTART;VALUE=DATE:20251027
DTEND;VALUE=DATE:20251030
DTSTAMP:20260421T160951
CREATED:20250115T115406Z
LAST-MODIFIED:20250115T115406Z
UID:1009-1761523200-1761782399@stnr.aps.pt
SUMMARY:10th International CIRIEC Research Conference on Social Economy
DESCRIPTION:The CIRIEC (International Centre of Research and Information on the Public\, Social and Cooperative Economy) and the Territories of the Social Solidarity Economy Chair (Chaire TerrESS) invites you to attend the 10th International Research Conference on Social Economy\, to be held in Sciences Po Bordeaux\, France\, from 27 to 29 October 2025. \n\n\n\n\nThe conference is an international meeting place for senior and early-stage researchers interested in the whole range of the social economy components (cooperatives\, mutuals\, associations\, foundations)\, to exchange ideas and works. It will take place a few days before the Global social and solidarity economy forum (October 29-31)\, the international forum for local authorities and SSE organisations\, so you can extend your stay in Bordeaux.
URL:https://stnr.aps.pt/sceav/event/10th-international-ciriec-research-conference-on-social-economy/
LOCATION:Bordeaux\, Bordeaux\, França
END:VEVENT
END:VCALENDAR